BEGIN:VCALENDAR
VERSION:2.0
PRODID:-//ChamberMaster//Event Calendar 2.0//EN
METHOD:PUBLISH
X-PUBLISHED-TTL:P3D
REFRESH-INTERVAL:P3D
CALSCALE:GREGORIAN
BEGIN:VEVENT
DTSTART:20160930T143000Z
DTEND:20160930T150000Z
X-MICROSOFT-CDO-ALLDAYEVENT:FALSE
SUMMARY:Associated Charities - Ribbon Cutting 9-30-16
DESCRIPTION:Join us for our Ribbon Cutting Ceremony\n\nFriday\, September 30\, 2016\n\n10:30 - 11:30 am (Ribbon will be cut at 10:30 a.m.)\n\nAssociated Charities - New Facility\n\n240 Cleveland Ave.\, Ashland
X-ALT-DESC;FMTTYPE=text/html:<strong>Join us for our Ribbon Cutting Ceremony</strong><br />\nFriday\, September 30\, 2016<br />\n10:30 - 11:30 am (Ribbon will be cut at 10:30 a.m.)<br />\nAssociated Charities - New Facility<br />\n240 Cleveland Ave.\, Ashland
LOCATION:
UID:e.1651.4175
SEQUENCE:3
DTSTAMP:20260420T140046Z
URL:https://members.ashlandoh.com/events/details/associated-charities-ribbon-cutting-9-30-16-4175
END:VEVENT

END:VCALENDAR
