BEGIN:VCALENDAR
VERSION:2.0
PRODID:-//ChamberMaster//Event Calendar 2.0//EN
METHOD:PUBLISH
X-PUBLISHED-TTL:P3D
REFRESH-INTERVAL:P3D
CALSCALE:GREGORIAN
BEGIN:VEVENT
DTSTART:20171127T200000Z
DTEND:20171127T210000Z
X-MICROSOFT-CDO-ALLDAYEVENT:FALSE
SUMMARY:Awards Application Workshop 11-27-17 - pm
DESCRIPTION:This workshop is for our members who have been nominated for the 2018 Annual Member Awards. We know that filling out the nomination application takes a lot of work. We want to help you be successful in this process.\n\n\n\nIf you are interested in becoming a nominee for the Awards in 2018\, and need some guidance\, this is the workshop for you. Bring in the forms you received from the Chamber\, and we will help clarify the information required.\n\n\n\nREGISTER NOW FOR THE WORKSHOP\n\n\n\nIf you have questions about this\, feel free to contact the Chamber Staff. We are here to serve.
X-ALT-DESC;FMTTYPE=text/html:This workshop is for our members who have been nominated for the 2018 Annual Member Awards. We know that filling out the nomination application takes a lot of work. We want to help you be successful in this process.<br />\n<br />\nIf you are interested in becoming a nominee for the Awards in 2018\, and need some guidance\, this is the workshop for you. Bring in the forms you received from the Chamber\, and we will help clarify the information required.<br />\n<br />\nREGISTER NOW FOR THE WORKSHOP<br />\n<br />\nIf you have questions about this\, feel free to contact the Chamber Staff. We are here to serve.
LOCATION:Chamber Office Conference Rm 211 Claremont Ave. Ashland OH 44805
UID:e.1651.5382
SEQUENCE:3
DTSTAMP:20260419T134612Z
URL:https://members.ashlandoh.com/events/details/awards-application-workshop-11-27-17-pm-5382
END:VEVENT

END:VCALENDAR
