BEGIN:VCALENDAR
VERSION:2.0
PRODID:-//ChamberMaster//Event Calendar 2.0//EN
METHOD:PUBLISH
X-PUBLISHED-TTL:P3D
REFRESH-INTERVAL:P3D
CALSCALE:GREGORIAN
BEGIN:VEVENT
DTSTART:20260814T120000Z
DTEND:20260814T193000Z
X-MICROSOFT-CDO-ALLDAYEVENT:FALSE
SUMMARY:AYP 6th Annual Charity Golf Outing
DESCRIPTION:AYP Putts for Pets! Join us for our 6th Annual Charity Golf Outing on Friday\, August 14th at Ashland Golf Club! Proceeds from this event will benefit No Pawz Left Behind & The Cat House Feline Sanctuary!\n\nAlthough this event is HOSTED by Ashland Young Professionals\, this event is NOT limited to specific age groups!\n\nRegistration will begin at 8AM\, with a 9AM shotgun start. The cost is $400/team and includes 18 holes with cart\, breakfast items\, lunch\, drink tickets\, sponsored outing gifts\, and small reception with Hors d'oeuvres immediately following the tournament.\n\nWe will also be offering skins\, mulligans\, raffle prize tickets\, proximity prizes\, and hole sponsorship opportunities!\n\nTeam Bundle includes: skins\, mulligans\, and raffle tickets for all four players.\n\nQuestions? Please contact Emily at emily@ashlandoh.com / 419-281-4584!
X-ALT-DESC;FMTTYPE=text/html:<div class="xdj266r x11i5rnm xat24cr x1mh8g0r x1vvkbs" style="margin: 0px\; overflow-wrap: break-word\; font-family: &quot\;Segoe UI Historic&quot\;\, &quot\;Segoe UI&quot\;\, Helvetica\, Arial\, sans-serif\; color: rgb(5\, 5\, 5)\; font-size: 15px\;">AYP Putts for Pets! Join us for our 6th Annual Charity Golf Outing on Friday\, August 14th at Ashland Golf Club! Proceeds from this event will benefit No Pawz Left Behind &amp\; The Cat House Feline Sanctuary!</div>\n\n<div class="x11i5rnm xat24cr x1mh8g0r x1vvkbs xtlvy1s" style="margin: 0.5em 0px 0px\; overflow-wrap: break-word\; font-family: &quot\;Segoe UI Historic&quot\;\, &quot\;Segoe UI&quot\;\, Helvetica\, Arial\, sans-serif\; color: rgb(5\, 5\, 5)\; font-size: 15px\;">Although this event is HOSTED by Ashland Young Professionals\, this event is NOT limited to specific age groups!</div>\n\n<div class="x11i5rnm xat24cr x1mh8g0r x1vvkbs xtlvy1s" style="margin: 0.5em 0px 0px\; overflow-wrap: break-word\; font-family: &quot\;Segoe UI Historic&quot\;\, &quot\;Segoe UI&quot\;\, Helvetica\, Arial\, sans-serif\; color: rgb(5\, 5\, 5)\; font-size: 15px\;">Registration will begin at 8AM\, with a 9AM shotgun start. The cost is $400/team and includes 18 holes with cart\, breakfast items\, lunch\,&nbsp\;drink tickets\, sponsored outing gifts\, and small reception with Hors d&#39\;oeuvres immediately following the tournament.</div>\n\n<div class="x11i5rnm xat24cr x1mh8g0r x1vvkbs xtlvy1s" style="margin: 0.5em 0px 0px\; overflow-wrap: break-word\; font-family: &quot\;Segoe UI Historic&quot\;\, &quot\;Segoe UI&quot\;\, Helvetica\, Arial\, sans-serif\; color: rgb(5\, 5\, 5)\; font-size: 15px\;">We will also be offering skins\, mulligans\, raffle prize tickets\, proximity prizes\, and hole sponsorship opportunities!</div>\n\n<div class="x11i5rnm xat24cr x1mh8g0r x1vvkbs xtlvy1s" style="margin: 0.5em 0px 0px\; overflow-wrap: break-word\; font-family: &quot\;Segoe UI Historic&quot\;\, &quot\;Segoe UI&quot\;\, Helvetica\, Arial\, sans-serif\; color: rgb(5\, 5\, 5)\; font-size: 15px\;">Team Bundle includes: skins\, mulligans\, and raffle tickets for all four players.</div>\n\n<div class="x11i5rnm xat24cr x1mh8g0r x1vvkbs xtlvy1s" style="margin: 0.5em 0px 0px\; overflow-wrap: break-word\; font-family: &quot\;Segoe UI Historic&quot\;\, &quot\;Segoe UI&quot\;\, Helvetica\, Arial\, sans-serif\; color: rgb(5\, 5\, 5)\; font-size: 15px\;">Questions? Please contact Emily at emily@ashlandoh.com / 419-281-4584!&nbsp\;</div>\n
LOCATION:Ashland Golf Club 1333 Center Street Ashland\, OH 44805
UID:e.1651.6529
SEQUENCE:3
DTSTAMP:20260423T115522Z
URL:https://members.ashlandoh.com/events/details/ayp-6th-annual-charity-golf-outing-6529
END:VEVENT

END:VCALENDAR
