BEGIN:VCALENDAR
VERSION:2.0
PRODID:-//ChamberMaster//Event Calendar 2.0//EN
METHOD:PUBLISH
X-PUBLISHED-TTL:P3D
REFRESH-INTERVAL:P3D
CALSCALE:GREGORIAN
BEGIN:VEVENT
DTSTART:20160216T130000Z
DTEND:20160216T143000Z
X-MICROSOFT-CDO-ALLDAYEVENT:FALSE
SUMMARY:B2B - Census Data - 2-16-16
DESCRIPTION:BUSINESS TO BUSINESS WORKSHOPS\n\nProviding and avenue for members\, and other specialists to share their expertise with other members.\n\n\n\nTOPIC: Census Data - Relevance to Business\n\nSPEAKER: Timothy Sarko - U.S. Census Bureau\n\nTIME: 8:00 - 9:30 am\n\nPLACE: Kroc Center\n\nCOST: $10 pp
X-ALT-DESC;FMTTYPE=text/html:<strong>BUSINESS TO BUSINESS WORKSHOPS</strong><br />\nProviding and avenue for members\, and other specialists to share their expertise with other members.<br />\n<br />\n<strong>TOPIC: </strong>Census Data - Relevance to Business<br />\n<strong>SPEAKER:</strong> Timothy Sarko - U.S. Census Bureau<br />\n<strong>TIME:</strong> 8:00 - 9:30 am<br />\n<strong>PLACE:</strong> Kroc Center<br />\n<strong>COST:</strong> $10 pp
LOCATION:
UID:e.1651.2505
SEQUENCE:3
DTSTAMP:20260421T020904Z
URL:https://members.ashlandoh.com/events/details/b2b-census-data-2-16-16-02-16-2016-2505
END:VEVENT

END:VCALENDAR
