BEGIN:VCALENDAR
VERSION:2.0
PRODID:-//ChamberMaster//Event Calendar 2.0//EN
METHOD:PUBLISH
X-PUBLISHED-TTL:P3D
REFRESH-INTERVAL:P3D
CALSCALE:GREGORIAN
BEGIN:VEVENT
DTSTART:20161220T130000Z
DTEND:20161220T143000Z
X-MICROSOFT-CDO-ALLDAYEVENT:FALSE
SUMMARY:B2B - Charitable Giving - 12-20-16
DESCRIPTION:BUSINESS TO BUSINESS WORKSHOPS\n\nProviding and avenue for members\, and other specialists to share their expertise with other members.\n\n\n\nTOPIC: The Benefits of Charitable Contributions\n\nSPEAKER: Ev Devaul - United Way of Ashland County\n\nTIME: 8:00 - 9:30 am\n\nPLACE: Kroc Center\n\nCOST: $10 pp
X-ALT-DESC;FMTTYPE=text/html:<strong>BUSINESS TO BUSINESS WORKSHOPS</strong><br />\nProviding and avenue for members\, and other specialists to share their expertise with other members.<br />\n<br />\n<strong>TOPIC:</strong> The Benefits of Charitable Contributions<br />\n<strong>SPEAKER:</strong> Ev Devaul - United Way of Ashland County<br />\n<strong>TIME:</strong> 8:00 - 9:30 am<br />\n<strong>PLACE:</strong> Kroc Center<br />\n<strong>COST:</strong> $10 pp
LOCATION:
UID:e.1651.2510
SEQUENCE:3
DTSTAMP:20260420T085145Z
URL:https://members.ashlandoh.com/events/details/b2b-charitable-giving-12-20-16-12-20-2016-2510
END:VEVENT

END:VCALENDAR
