BEGIN:VCALENDAR
VERSION:2.0
PRODID:-//ChamberMaster//Event Calendar 2.0//EN
METHOD:PUBLISH
X-PUBLISHED-TTL:P3D
REFRESH-INTERVAL:P3D
CALSCALE:GREGORIAN
BEGIN:VEVENT
DTSTART:20160621T120000Z
DTEND:20160621T133000Z
X-MICROSOFT-CDO-ALLDAYEVENT:FALSE
SUMMARY:B2B - Publisher 101 - 6-21-16
DESCRIPTION:BUSINESS TO BUSINESS WORKSHOPS\n\nProviding and avenue for members\, and other specialists to share their expertise with other members.\n\n\n\nTOPIC: The Mechanics of Making Flyers\n\nSPEAKER: Melissa Martin & Renae Osborne\n\nTIME: 8:00 - 9:30 am\n\nPLACE: Kroc Center\n\nCOST: $10 pp
X-ALT-DESC;FMTTYPE=text/html:<strong>BUSINESS TO BUSINESS WORKSHOPS</strong><br />\nProviding and avenue for members\, and other specialists to share their expertise with other members.<br />\n<br />\n<strong>TOPIC:</strong> The Mechanics of Making Flyers<br />\n<strong>SPEAKER:</strong> Melissa Martin &amp\; Renae Osborne<br />\n<strong>TIME: </strong>8:00 - 9:30 am<br />\n<strong>PLACE:</strong> Kroc Center<br />\n<strong>COST:</strong> $10 pp
LOCATION:
UID:e.1651.2507
SEQUENCE:3
DTSTAMP:20260420T190125Z
URL:https://members.ashlandoh.com/events/details/b2b-publisher-101-6-21-16-06-21-2016-2507
END:VEVENT

END:VCALENDAR
