BEGIN:VCALENDAR
VERSION:2.0
PRODID:-//ChamberMaster//Event Calendar 2.0//EN
METHOD:PUBLISH
X-PUBLISHED-TTL:P3D
REFRESH-INTERVAL:P3D
CALSCALE:GREGORIAN
BEGIN:VEVENT
DTSTART:20160119T130000Z
DTEND:20160119T143000Z
X-MICROSOFT-CDO-ALLDAYEVENT:FALSE
SUMMARY:B2B - Social Media - 1-19-16
DESCRIPTION:BUSINESS TO BUSINESS WORKSHOPS\n\nProviding and avenue for members\, and other specialists to share their expertise with other members.\n\n\n\nTOPIC: Social Media's Role in Today's Business\n\nSPEAKER: Josh Coffy - Flight Media\n\nTIME: 8:00 - 9:30 am\n\nPLACE: Kroc Center - 527 E. Liberty St.\, Ashland\n\nCOST: $10 pp
X-ALT-DESC;FMTTYPE=text/html:<strong>BUSINESS TO BUSINESS WORKSHOPS</strong><br />\nProviding and avenue for members\, and other specialists to share their expertise with other members.<br />\n<br />\n<strong>TOPIC:</strong> Social Media&#39\;s Role in Today&#39\;s Business<br />\n<strong>SPEAKER:</strong> Josh Coffy - Flight Media<br />\n<strong>TIME:</strong> 8:00 - 9:30 am<br />\n<strong>PLACE:</strong> Kroc Center - 527 E. Liberty St.\, Ashland<br />\n<strong>COST: </strong>$10 pp
LOCATION:Salvation Army Kroc Center 527 E Liberty St.\, Ashland OH 44805
UID:e.1651.2504
SEQUENCE:3
DTSTAMP:20260421T040200Z
URL:https://members.ashlandoh.com/events/details/b2b-social-media-1-19-16-01-19-2016-2504
END:VEVENT

END:VCALENDAR
