BEGIN:VCALENDAR
VERSION:2.0
PRODID:-//ChamberMaster//Event Calendar 2.0//EN
METHOD:PUBLISH
X-PUBLISHED-TTL:P3D
REFRESH-INTERVAL:P3D
CALSCALE:GREGORIAN
BEGIN:VEVENT
DTSTART:20160524T120000Z
DTEND:20160524T133000Z
X-MICROSOFT-CDO-ALLDAYEVENT:FALSE
SUMMARY:B2B - Violence/Workplace - 5-24-16
DESCRIPTION:BUSINESS TO BUSINESS WORKSHOPS\n\nProviding and avenue for members\, and other specialists to share their expertise with other members.\n\n\n\nTOPIC: Violence in the Workplace\n\nSPEAKER: Tom Brohm - The SourceOne Group\n\nTIME: 8:00 - 9:30 am\n\nPLACE: Kroc Center\n\nCOST: $10 pp
X-ALT-DESC;FMTTYPE=text/html:<strong>BUSINESS TO BUSINESS WORKSHOPS</strong><br />\nProviding and avenue for members\, and other specialists to share their expertise with other members.<br />\n<br />\n<strong>TOPIC:</strong> Violence in the Workplace<br />\n<strong>SPEAKER:</strong> Tom Brohm - The SourceOne Group<br />\n<strong>TIME:</strong> 8:00 - 9:30 am<br />\n<strong>PLACE:</strong> Kroc Center<br />\n<strong>COST:</strong> $10 pp
LOCATION:
UID:e.1651.2506
SEQUENCE:3
DTSTAMP:20260420T205004Z
URL:https://members.ashlandoh.com/events/details/b2b-violence-workplace-5-24-16-05-24-2016-2506
END:VEVENT

END:VCALENDAR
