BEGIN:VCALENDAR
VERSION:2.0
PRODID:-//ChamberMaster//Event Calendar 2.0//EN
METHOD:PUBLISH
X-PUBLISHED-TTL:P3D
REFRESH-INTERVAL:P3D
CALSCALE:GREGORIAN
BEGIN:VEVENT
DTSTART:20160823T120000Z
DTEND:20160823T133000Z
X-MICROSOFT-CDO-ALLDAYEVENT:FALSE
SUMMARY:B2B - Workers Comp - 8-23-16
DESCRIPTION:BUSINESS TO BUSINESS WORKSHOPS\n\nProviding and avenue for members\, and other specialists to share their expertise with other members.\n\n\n\nTOPIC: The Ins and Outs of Workers Comp\n\n"Basics of avoiding litigation in Workers Compensation claims - outside the administrative agency"\n\nSPEAKER: Sue Baker - Critchfield\, Critchfield & Johnston\n\nTIME: 8:00 - 9:30 am\n\nPLACE: Kroc Center - 427 E Liberty St.\, Ashland\n\nCOST: $10 pp
X-ALT-DESC;FMTTYPE=text/html:<strong>BUSINESS TO BUSINESS WORKSHOPS</strong><br />\nProviding and avenue for members\, and other specialists to share their expertise with other members.<br />\n<br />\n<strong>TOPIC: </strong>The Ins and Outs of Workers Comp<br />\n<span style="color:#0000CD\;"><em>&quot\;Basics of avoiding litigation in Workers Compensation claims - outside the administrative agency&quot\;</em></span><br />\n<strong>SPEAKER:</strong> Sue Baker - Critchfield\, Critchfield &amp\; Johnston<br />\n<strong>TIME:</strong> 8:00 - 9:30 am<br />\n<strong>PLACE: </strong>Kroc Center - 427 E Liberty St.\, Ashland<br />\n<strong>COST: </strong>$10 pp
LOCATION:
UID:e.1651.2509
SEQUENCE:3
DTSTAMP:20260420T152854Z
URL:https://members.ashlandoh.com/events/details/b2b-workers-comp-8-23-16-08-23-2016-2509
END:VEVENT

END:VCALENDAR
