BEGIN:VCALENDAR
VERSION:2.0
PRODID:-//ChamberMaster//Event Calendar 2.0//EN
METHOD:PUBLISH
X-PUBLISHED-TTL:P3D
REFRESH-INTERVAL:P3D
CALSCALE:GREGORIAN
BEGIN:VEVENT
DTSTART:20170421T163000Z
DTEND:20170421T170000Z
X-MICROSOFT-CDO-ALLDAYEVENT:FALSE
SUMMARY:Black Diamond / Enhanced Homes Painting Ribbon Cutting
DESCRIPTION:Join us for a ribbon cutting and open house.\n\nDate: Friday\, April 21\, 2017\n\nOpen House: 11:30 am - 6:00 pm\n\nRibbon Cutting: 12:30 pm\n\nPlace: 306 E Third St.\,\, Ashland OH 44805
X-ALT-DESC;FMTTYPE=text/html:Join us for a ribbon cutting and open house.<br />\nDate: Friday\, April 21\, 2017<br />\nOpen House: 11:30 am - 6:00 pm<br />\nRibbon Cutting: 12:30 pm<br />\nPlace: 306 E Third St.\,\, Ashland OH 44805<br />\n&nbsp\;
LOCATION:306 E Third St.\, Ashland OH 44805
UID:e.1651.4299
SEQUENCE:3
DTSTAMP:20260420T014700Z
URL:https://members.ashlandoh.com/events/details/black-diamond-enhanced-homes-painting-ribbon-cutting-4299
END:VEVENT

END:VCALENDAR
