BEGIN:VCALENDAR
VERSION:2.0
PRODID:-//ChamberMaster//Event Calendar 2.0//EN
METHOD:PUBLISH
X-PUBLISHED-TTL:P3D
REFRESH-INTERVAL:P3D
CALSCALE:GREGORIAN
BEGIN:VEVENT
DTSTART:20141113T130000Z
DTEND:20141113T220000Z
X-MICROSOFT-CDO-ALLDAYEVENT:FALSE
SUMMARY:Boardmanship Training - LA 11-13-14
DESCRIPTION:You have been invited to a special \n\nLeadership Ashland Class Day.\n\n\n\nAs part of the mission of our program and our Alumni Association\, we want to offer various opportunities for our graduates to network and gain valuable information they can apply to their everyday lives.\n\n\n      What:   Effective Boardmanship Training\n\n                     and/or Kouzes & Posner Refresh\n\n      When:  Thursday\, November 13\, 2014\n\n      Where: Ashland YMCA - 207 Miller St.\n\n\n\nOPTIONS FOR ATTENDANCE:\n\n    Full Day - 8:00 am - 5:00 pm\n\n         (includes lunch) - $15 pp\n\n    AM - 8:00 am - 12:00 noon - No Lunch\n\n         Kouzes & Posner Refresh - Free\n\n    AM - 8:00 am - 1:00 pm + Lunch\n\n         Kouzes & Posner Refresh - $15 pp\n\n    PM - 1:00 pm - 5:00 pm - No Lunch\n\n          Effective Boardmanship Training - Free\n\n    PM - 12:00 pm - 5:00 pm + Lunch\n\n          Effective Boardmanship Training - $15 pp\n\n    NOTE: Registration is required for attendance\n\n    at any portion of this event!
X-ALT-DESC;FMTTYPE=text/html:<div style="text-align: justify\;"><span style="font-size:14px\;"><span style="color: rgb(0\, 0\, 205)\;"><strong><span style="font-size:18px\;">You have been invited to a special </span><br />\n<span style="font-size:18px\;">Leadership Ashland Class Day.</span></strong></span></span><br />\n<br />\nAs part of the mission of our program and our Alumni Association\, we want to offer various opportunities for our graduates to network and gain valuable information they can apply to their everyday lives.</div>\n<br />\n&nbsp\;&nbsp\;&nbsp\;&nbsp\;&nbsp\; <span style="color:#0000CD\;"><strong>What:&nbsp\;</strong>&nbsp\; Effective Boardmanship Training<br />\n&nbsp\;&nbsp\;&nbsp\;&nbsp\;&nbsp\;&nbsp\;&nbsp\;&nbsp\;&nbsp\;&nbsp\;&nbsp\;&nbsp\;&nbsp\;&nbsp\;&nbsp\;&nbsp\;&nbsp\;&nbsp\;&nbsp\;&nbsp\; and/or Kouzes &amp\; Posner Refresh<br />\n&nbsp\;&nbsp\;&nbsp\;&nbsp\;&nbsp\; <strong>When:&nbsp\;</strong> Thursday\, November 13\, 2014<br />\n&nbsp\;&nbsp\;&nbsp\;&nbsp\;&nbsp\; <strong>Where:</strong> Ashland YMCA - 207 Miller </span>St.<br />\n<br />\n<u><strong>OPTIONS FOR ATTENDANCE:</strong></u><br />\n&nbsp\;&nbsp\;&nbsp\; Full Day - 8:00 am - 5:00 pm<br />\n&nbsp\;&nbsp\;&nbsp\;&nbsp\;&nbsp\;&nbsp\;&nbsp\;&nbsp\;<span style="font-size:11px\;"><em> (includes lunch) - $15 pp</em></span><br />\n&nbsp\;&nbsp\;&nbsp\; AM - 8:00 am - 12:00 noon - No Lunch<br />\n&nbsp\;&nbsp\;&nbsp\;&nbsp\;&nbsp\;&nbsp\;&nbsp\;&nbsp\; <em><span style="font-size:11px\;">Kouzes &amp\; Posner Refresh - Free</span></em><br />\n&nbsp\;&nbsp\;&nbsp\; AM - 8:00 am - 1:00 pm + Lunch<br />\n&nbsp\;&nbsp\;&nbsp\;&nbsp\;&nbsp\;&nbsp\;&nbsp\;&nbsp\; <em><span style="font-size:11px\;">Kouzes &amp\; Posner Refresh - $15 pp</span></em><br />\n&nbsp\;&nbsp\;&nbsp\; PM - 1:00 pm - 5:00 pm - No Lunch<br />\n&nbsp\;&nbsp\;&nbsp\;&nbsp\;&nbsp\;&nbsp\;&nbsp\;&nbsp\;&nbsp\; <span style="font-size:11px\;"><em>Effective Boardmanship Training - Free</em></span><br />\n&nbsp\;&nbsp\;&nbsp\; PM - 12:00 pm - 5:00 pm + Lunch<br />\n&nbsp\;&nbsp\;&nbsp\;&nbsp\;&nbsp\;&nbsp\;&nbsp\;&nbsp\;&nbsp\; <span style="font-size:11px\;"><em>Effective Boardmanship Training - $15 pp</em></span><br />\n<em><span style="color:#B22222\;">&nbsp\;&nbsp\;&nbsp\; NOTE: Registration is required for attendance<br />\n&nbsp\;&nbsp\;&nbsp\; at any portion of this event!</span></em><br />\n&nbsp\;
LOCATION:Ashland YMCA 207 Miller Street\, Ashland\, OH 44805
UID:e.1651.1620
SEQUENCE:3
DTSTAMP:20260422T044209Z
URL:https://members.ashlandoh.com/events/details/boardmanship-training-la-11-13-14-11-13-2014-1620
END:VEVENT

END:VCALENDAR
