BEGIN:VCALENDAR
VERSION:2.0
PRODID:-//ChamberMaster//Event Calendar 2.0//EN
METHOD:PUBLISH
X-PUBLISHED-TTL:P3D
REFRESH-INTERVAL:P3D
CALSCALE:GREGORIAN
BEGIN:VEVENT
DTSTART:20121108T200000Z
DTEND:20121109T200000Z
X-MICROSOFT-CDO-ALLDAYEVENT:FALSE
SUMMARY:Business Expo 2012
DESCRIPTION:2012 Business Expo\n\nENGAGE   CONNECT    PROSPER\n\n\n\nVendor Registration as follows:\n\n(Early Bird registration valid before June 15\, 2012\n\nStandard registration applies after June 15\, 2012)\n\n\n\nMember Registration\n\nEarly Bird - single booth: $150\n\nEarly Bird - double booth: $300\n\nEarly Bird - half booth: $ 75\n\nStandard - single booth: $300\n\nStandard - double booth: $600\n\n\n\nNon-Member Registration\n\nEarly Bird - single booth: $300\n\nEarly Bird - double booth: $600\n\nStandard - single booth: $400\n\nStandard - double booth: $700
X-ALT-DESC;FMTTYPE=text/html:<span style="color:#2f4f4f\;"><span style="font-size: 16px\;"><strong>2012 Business Expo</strong></span></span><br />\n<span style="color:#8b4513\;"><em>ENGAGE&nbsp\;&diams\; CONNECT&nbsp\; &diams\; PROSPER</em></span><br />\n<br />\n<strong><span style="font-size:16px\;">Vendor Registration as follows:</span></strong><br />\n<em>(Early Bird registration valid before June 15\, 2012<br />\nStandard registration applies after June 15\, 2012)</em><br />\n<br />\n<span style="font-size:14px\;"><strong><u>Member Registration</u></strong></span><br />\nEarly Bird - single booth: $150<br />\nEarly Bird - double booth: $300<br />\nEarly Bird - half booth: $ 75<br />\nStandard - single booth: $300<br />\nStandard - double booth: $600<br />\n<br />\n<span style="font-size:14px\;"><u><strong>Non-Member Registration</strong></u></span><br />\nEarly Bird - single booth: $300<br />\nEarly Bird - double booth: $600<br />\nStandard - single booth: $400<br />\nStandard - double booth: $700<br />\n
LOCATION:Ashland University Convocation Center 638 Jefferson St. Ashland\, OH 44805
UID:e.1651.579
SEQUENCE:3
DTSTAMP:20260423T201328Z
URL:https://members.ashlandoh.com/events/details/business-expo-2012-11-08-2012-579
END:VEVENT

END:VCALENDAR
