BEGIN:VCALENDAR
VERSION:2.0
PRODID:-//ChamberMaster//Event Calendar 2.0//EN
METHOD:PUBLISH
X-PUBLISHED-TTL:P3D
REFRESH-INTERVAL:P3D
CALSCALE:GREGORIAN
BEGIN:VEVENT
DTSTART:20160512T210000Z
DTEND:20160512T230000Z
X-MICROSOFT-CDO-ALLDAYEVENT:FALSE
SUMMARY:Business Open House - The Reformatory
DESCRIPTION:Join us for a Combined Business Open House!\n\nThe Ashland and Richland Area Chambers of Commerce have partnered with the Reformatory and Richland Source to host this fun evening event. Enjoy Food\, Drink\, Networking and Self-Guided tours of the Reformatory.\n\n\n\nParticipants will be able to browse the Business Start-Up Expo tables provided by six students involved with the Young Entrepreneur's Academy - Yea! Richland.\n\n\n\n     Where: The Reformatory\n\n     Place: 100 Reformatory Rd\, Mansfield\n\n     Date: Thursday\, May 12\, 2016\n\n     Time: 5:00 - 7:00 pm\n\n     Cost: Registration Required\n\n                Members - Free \n\n                Non-Members $10\n\n                Cash Bar available\n\n     Sponsored by: Richland Source\n\n     CLICK HERE FOR AN EVENT FLYER\n\n\n\nThis is a great event to promote to your staff\, employees\, friends and family. Feel free to print off a flyer and post it in a well viewed space.\n\n\n\nWe look forward to seeing you there.
X-ALT-DESC;FMTTYPE=text/html:<span style="color:#8B4513\;"><span style="font-size: 20px\;"><strong>Join us for a Combined Business Open House!</strong></span></span><br />\n<span style="font-size:11px\;"><span style="font-family: comic sans ms\;"><em>The Ashland and Richland Area Chambers of Commerce have partnered with the Reformatory and Richland Source to host this fun evening event. Enjoy Food\, Drink\, Networking and Self-Guided tours of the Reformatory.<br />\n<br />\nParticipants will be able to browse the Business Start-Up Expo tables provided by six students involved with the Young Entrepreneur&#39\;s Academy - Yea! Richland.</em></span></span><br />\n<br />\n&nbsp\;&nbsp\;&nbsp\;&nbsp\; <strong>Where:</strong> The Reformatory<br />\n&nbsp\;&nbsp\;&nbsp\;&nbsp\; <strong>Place:</strong> 100 Reformatory Rd\, Mansfield<br />\n&nbsp\;&nbsp\;&nbsp\;&nbsp\; <strong>Date:</strong> Thursday\, May 12\, 2016<br />\n&nbsp\;&nbsp\;&nbsp\;&nbsp\; <strong>Time: </strong>5:00 - 7:00 pm<br />\n&nbsp\;&nbsp\;&nbsp\;&nbsp\; <strong>Cost: </strong>Registration Required<br />\n&nbsp\;&nbsp\;&nbsp\;&nbsp\;&nbsp\;&nbsp\;&nbsp\;&nbsp\;&nbsp\;&nbsp\;&nbsp\;&nbsp\;&nbsp\;&nbsp\;&nbsp\; Members - Free&nbsp\;<br />\n&nbsp\;&nbsp\;&nbsp\;&nbsp\;&nbsp\;&nbsp\;&nbsp\;&nbsp\;&nbsp\;&nbsp\;&nbsp\;&nbsp\;&nbsp\;&nbsp\;&nbsp\; Non-Members $10<br />\n&nbsp\;&nbsp\;&nbsp\;&nbsp\;&nbsp\;&nbsp\;&nbsp\;&nbsp\;&nbsp\;&nbsp\;&nbsp\;&nbsp\;&nbsp\;&nbsp\;&nbsp\; Cash Bar available<br />\n&nbsp\;&nbsp\;&nbsp\;&nbsp\; <strong>Sponsored by:</strong> Richland Source<br />\n&nbsp\;&nbsp\;&nbsp\;&nbsp\;<span style="color:#800000\;"> </span><a href="https://chambermaster.blob.core.windows.net/userfiles/UserFiles/chambers/1651/File/Events/2016_Business_Open_House/RichlandandAshlandChamberEventatReformatoryFlyer-FinalVersion.pdf" target="_blank"><span style="color:#800000\;"><strong>CLICK HERE FOR AN EVENT FLYER</strong></span></a><br />\n<br />\n<strong>This is a great event to promote to your staff\, employees\, friends and family. Feel free to print off a flyer and post it in a well viewed space.</strong><br />\n<br />\n<em><span style="font-family:comic sans ms\;">We look forward to seeing you there.</span></em><br />\n<br />\n&nbsp\;
LOCATION:Mansfield Reformatory 100 Reformatory Rd Mansfield\, OH
UID:e.1651.4102
SEQUENCE:3
DTSTAMP:20260420T205259Z
URL:https://members.ashlandoh.com/events/details/business-open-house-the-reformatory-05-12-2016-4102
END:VEVENT

END:VCALENDAR
