BEGIN:VCALENDAR
VERSION:2.0
PRODID:-//ChamberMaster//Event Calendar 2.0//EN
METHOD:PUBLISH
X-PUBLISHED-TTL:P3D
REFRESH-INTERVAL:P3D
CALSCALE:GREGORIAN
BEGIN:VEVENT
DTSTART:20130912T203000Z
DTEND:20130912T220000Z
X-MICROSOFT-CDO-ALLDAYEVENT:FALSE
SUMMARY:Business Spotlight Critchfield\, Critchfield & Johnston 9-12-13
DESCRIPTION:Business Spotlight @ Critchfield\, Critchfield & Johnston
X-ALT-DESC;FMTTYPE=text/html:Business Spotlight @ Critchfield\, Critchfield &amp\; Johnston
LOCATION:60 W. Second St. Ashland\, OH 44805
UID:e.1651.878
SEQUENCE:3
DTSTAMP:20260423T035916Z
URL:https://members.ashlandoh.com/events/details/business-spotlight-critchfield-critchfield-johnston-9-12-13-09-12-2013-878
END:VEVENT

END:VCALENDAR
