BEGIN:VCALENDAR
VERSION:2.0
PRODID:-//ChamberMaster//Event Calendar 2.0//EN
METHOD:PUBLISH
X-PUBLISHED-TTL:P3D
REFRESH-INTERVAL:P3D
CALSCALE:GREGORIAN
BEGIN:VEVENT
DTSTART:20131210T213000Z
DTEND:20131210T230000Z
X-MICROSOFT-CDO-ALLDAYEVENT:FALSE
SUMMARY:Business Spotlight - Dilgard & Associates
DESCRIPTION:COME & CELEBRATE WITH US!\n\nYou're invited to come to our New Remodel\, Ribbon Cutting and Business Spotlight. Meet our professional staff and learn more about the services we provide.
X-ALT-DESC;FMTTYPE=text/html:<em><strong><span style="font-size:14px\;"><span style="color: rgb(0\, 0\, 205)\;">COME &amp\; CELEBRATE WITH US!</span></span><br />\nYou&#39\;re invited to come to our New Remodel\, Ribbon Cutting and Business Spotlight. Meet our professional staff and learn more about the services we provide.</strong></em>
LOCATION:135 Union Street.\, Ashland\, OH 44805
UID:e.1651.945
SEQUENCE:3
DTSTAMP:20260422T225513Z
URL:https://members.ashlandoh.com/events/details/business-spotlight-dilgard-associates-12-10-2013-945
END:VEVENT

END:VCALENDAR
