BEGIN:VCALENDAR
VERSION:2.0
PRODID:-//ChamberMaster//Event Calendar 2.0//EN
METHOD:PUBLISH
X-PUBLISHED-TTL:P3D
REFRESH-INTERVAL:P3D
CALSCALE:GREGORIAN
BEGIN:VEVENT
DTSTART:20130806T210000Z
DTEND:20130806T230000Z
X-MICROSOFT-CDO-ALLDAYEVENT:FALSE
SUMMARY:Business Spotlight Kingston
DESCRIPTION:You are invited to attend the Kingston of Ashland Business Spotlight featuring their new Administrator: Nathan Carder.
X-ALT-DESC;FMTTYPE=text/html:You are invited to attend the Kingston of Ashland Business Spotlight featuring their new Administrator: Nathan Carder.
LOCATION:Kingston of Ashland 20 Amberwood Parkway
UID:e.1651.661
SEQUENCE:3
DTSTAMP:20260423T050306Z
URL:https://members.ashlandoh.com/events/details/business-spotlight-kingston-08-06-2013-661
END:VEVENT

END:VCALENDAR
