BEGIN:VCALENDAR
VERSION:2.0
PRODID:-//ChamberMaster//Event Calendar 2.0//EN
METHOD:PUBLISH
X-PUBLISHED-TTL:P3D
REFRESH-INTERVAL:P3D
CALSCALE:GREGORIAN
BEGIN:VEVENT
DTSTART:20121218T213000Z
DTEND:20121218T230000Z
X-MICROSOFT-CDO-ALLDAYEVENT:FALSE
SUMMARY:Business Spotlight - PNC Bank
DESCRIPTION:Holiday Open House and Meet the Staff\n\n\n\nA time of networking and good food!
X-ALT-DESC;FMTTYPE=text/html:Holiday Open House and Meet the Staff<br />\n<br />\nA time of networking and good food!
LOCATION:10 W. Second Street Ashland\, OH 44805
UID:e.1651.589
SEQUENCE:3
DTSTAMP:20260423T182449Z
URL:https://members.ashlandoh.com/events/details/business-spotlight-pnc-bank-12-18-2012-589
END:VEVENT

END:VCALENDAR
