BEGIN:VCALENDAR
VERSION:2.0
PRODID:-//ChamberMaster//Event Calendar 2.0//EN
METHOD:PUBLISH
X-PUBLISHED-TTL:P3D
REFRESH-INTERVAL:P3D
CALSCALE:GREGORIAN
BEGIN:VEVENT
DTSTART:20161017T230000Z
DTEND:20161018T013000Z
X-MICROSOFT-CDO-ALLDAYEVENT:FALSE
SUMMARY:"Candidates and Issues" 10-17-16
DESCRIPTION:STATE OF THE ELECTIONS\n\n"Candidates and Issues"\n\nThe purpose of the event is to provide a forum for the community to learn about the candidates and gain a better understanding of the issues and how they will impact our area.  The program will focus around candidates in contested races\, and local levies.  Dr. Jeffery Sikkenga\, Professor of Political Science at Ashland University\, will be our event Moderator.\n\nCLICK HERE FOR AN EVENT FLYER!  \n\n\n\nA Special Thanks goes to the the following businesses:\n\n\n	Ashland Board of Realtors - Event Partner\n	Farmers State Bank - Event Sponsor
X-ALT-DESC;FMTTYPE=text/html:<div class="mn-event-section mn-event-desc">\n<div class="mn-event-head"><span style="font-size:14px\;"><span style="font-size:24px\;"><span style="color: rgb(0\, 0\, 128)\;"><strong>STATE OF THE ELECTIONS</strong></span><br />\n<span style="font-size:20px\;"><span style="color: rgb(178\, 34\, 34)\;"><strong>&quot\;Candidates and Issues&quot\;</strong></span></span></span></span>\n\n<div style="text-align: justify\;"><span style="font-size:12px\;"><span style="font-family: arial\;">The purpose of the event is to provide a forum for the community to learn about the candidates and gain a better understanding of the issues and how they will impact our area.&nbsp\; The program will focus around candidates in contested races\, and local levies.&nbsp\; Dr. Jeffery Sikkenga\, Professor of Political Science at Ashland University\, will be our event Moderator.<br />\n<a href="https://chambermaster.blob.core.windows.net/userfiles/UserFiles/chambers/1651/File/Events/2016CandidatesandIssuesFlyer10-17-16DateCurrent.pdf" target="_blank"><span style="font-size:14px\;"><strong><span style="color:#B22222\;">CLICK HERE FOR AN EVENT FLYER!</span></strong></span></a> <strong> </strong></span></span></div>\n\n<div style="font-size: 12px\;"><br />\n<span style="font-size:14px\;"><strong>A Special Thanks goes to the the following businesses:</strong></span></div>\n\n<ul>\n	<li style="font-size: 12px\;"><span style="font-size:14px\;"><strong><a href="http://www.ashlandboardofrealtors.com/" target="_blank"><span style="color:#0000FF\;">Ashland Board of Realtors</span></a> - Event Partner</strong></span></li>\n	<li><span style="font-size:14px\;"><strong><a href="https://farmersstate-oh.com/" target="_blank"><span style="color:#008000\;">Farmers State Bank</span></a> - Event Sponsor</strong></span></li>\n</ul>\n</div>\n</div>\n
LOCATION:AU Convocation Center - Alumni Room 638 Jefferson St. Ashland\, OH 44805
UID:e.1651.2524
SEQUENCE:3
DTSTAMP:20260420T134846Z
URL:https://members.ashlandoh.com/events/details/candidates-and-issues-10-17-16-2524
END:VEVENT

END:VCALENDAR
