BEGIN:VCALENDAR
VERSION:2.0
PRODID:-//ChamberMaster//Event Calendar 2.0//EN
METHOD:PUBLISH
X-PUBLISHED-TTL:P3D
REFRESH-INTERVAL:P3D
CALSCALE:GREGORIAN
BEGIN:VEVENT
DTSTART:20171002T230000Z
DTEND:20171003T010000Z
X-MICROSOFT-CDO-ALLDAYEVENT:FALSE
SUMMARY:"Candidates and Issues" 10-2-17
DESCRIPTION:STATE OF THE ELECTIONS\n\n"Candidates and Issues"\nThe purpose of the event is to provide a forum for the community to learn about the candidates and gain a better understanding of the issues and how they will impact our area.  The program will focus around candidates in contested races\, and state and local issues.
X-ALT-DESC;FMTTYPE=text/html:<div class="mn-event-section mn-event-desc">\n<div class="mn-event-head"><span style="font-size:14px\;"><span style="font-size:24px\;"><span style="color: rgb(0\, 0\, 128)\;"><strong>STATE OF THE ELECTIONS</strong></span><br />\n<span style="font-size:20px\;"><span style="color: rgb(178\, 34\, 34)\;"><strong>&quot\;Candidates and Issues&quot\;</strong></span></span></span></span>\n<div style="font-size: 12px\;"><span style="font-size:12px\;"><span style="font-family: arial\;">The purpose of the event is to provide a forum for the community to learn about the candidates and gain a better understanding of the issues and how they will impact our area.&nbsp\; The program will focus around candidates in contested races\, and state and local issues.&nbsp\; </span></span></div>\n</div>\n</div>\n
LOCATION:Pump House Event Ctr. 400 Orange St. Ashland\, OH 44805
UID:e.1651.5340
SEQUENCE:3
DTSTAMP:20260419T173024Z
URL:https://members.ashlandoh.com/events/details/candidates-and-issues-10-2-17-5340
END:VEVENT

END:VCALENDAR
