BEGIN:VCALENDAR
VERSION:2.0
PRODID:-//ChamberMaster//Event Calendar 2.0//EN
METHOD:PUBLISH
X-PUBLISHED-TTL:P3D
REFRESH-INTERVAL:P3D
CALSCALE:GREGORIAN
BEGIN:VEVENT
DTSTART:20151027T230000Z
DTEND:20151028T013000Z
X-MICROSOFT-CDO-ALLDAYEVENT:FALSE
SUMMARY:"Candidates and Issues" 10-27-15
DESCRIPTION:STATE OF THE ELECTIONS\n\n"Candidates and Issues"\n\nThe Ashland Area Chamber of Commerce has partnered with the Ashland County Board of Realtors to bring you this informative community event. The purpose of the event is to provide a forum for the community to learn about the candidates and gain a better understanding of the issues and how they will impact our area. The program will focus around candidates in contested races\, local levy's and the three important state issues on the November 3rd ballot.
X-ALT-DESC;FMTTYPE=text/html:<div class="mn-event-section mn-event-desc">\n<div class="mn-event-head"><span style="font-size:14px\;"><span style="font-size:24px\;"><span style="color: rgb(0\, 0\, 128)\;"><strong>STATE OF THE ELECTIONS</strong></span><br />\n<span style="color:#B22222\;"><strong>&quot\;Candidates and Issues&quot\;</strong></span></span></span>\n\n<div style="text-align: justify\;"><span style="font-size:14px\;"><span style="font-family: arial\;">The Ashland Area Chamber of Commerce has partnered with the Ashland County Board of Realtors to bring you this informative community event. The purpose of the event is to provide a forum for the community to learn about the candidates and gain a better understanding of the issues and how they will impact our area. The program will focus around candidates in contested races\, local levy&rsquo\;s and the three important state issues on the November 3<sup>rd</sup> ballot.</span></span></div>\n&nbsp\;\n\n<div class="mn-raw mn-print-url" itemprop="description">\n<p>&nbsp\;&nbsp\;&nbsp\;&nbsp\;</p>\n</div>\n</div>\n</div>\n
LOCATION:Ashland University Convocation Center - Alumni Room 638 Jefferson St. Ashland\, OH 44805
UID:e.1651.786
SEQUENCE:3
DTSTAMP:20260421T093256Z
URL:https://members.ashlandoh.com/events/details/candidates-and-issues-10-27-15-10-27-2015-786
END:VEVENT

END:VCALENDAR
