BEGIN:VCALENDAR
VERSION:2.0
PRODID:-//ChamberMaster//Event Calendar 2.0//EN
METHOD:PUBLISH
X-PUBLISHED-TTL:P3D
REFRESH-INTERVAL:P3D
CALSCALE:GREGORIAN
BEGIN:VEVENT
DTSTART:20160722T113000Z
DTEND:20160722T170000Z
X-MICROSOFT-CDO-ALLDAYEVENT:FALSE
SUMMARY:Chamber Board Meeting - Mini Golf Outing & Lunch 7-22-16
DESCRIPTION:The Chamber Board of Directors will be holding a special networking meeting on July 22\, 2016. All board members need to arrive by 7:30 am for the regular Board meeting and will have an opportunity to network with our Premier members during the rest of the event.\n\nOur Premier members have been invited to this special meeting in thanks for their continued support of the Chamber.\n\n\n\nEVENT SCHEDULE:\n\nTime: 7:30 am - 1:00 pm (see details below)\n\n          7:30 - 9:00 am            Board Meeting\n\n             9:45 - 11:45 am          Nine - hole golf outing\n\n             11:45 am - 1:00 pm    Lunch for all players at Shanks\n\nCost: Free to Board Members and guest that attend\n\nLocation: Ashland Golf Club - 1333 Center Street
X-ALT-DESC;FMTTYPE=text/html:<strong>The Chamber Board of Directors</strong> will be holding a special networking meeting on July 22\, 2016. All board members need to arrive by 7:30 am for the regular Board meeting and will have an opportunity to network with our Premier members during the rest of the event.<br />\n<strong>Our Premier members</strong> have been invited to this special meeting in thanks for their continued support of the Chamber.<br />\n<br />\n<span style="color:#4B0082\;"><strong>EVENT SCHEDULE:</strong></span><br />\n<strong>Time:</strong> 7:30 am - 1:00 pm (see details below)<br />\n&nbsp\;&nbsp\;&nbsp\;&nbsp\;&nbsp\;&nbsp\;&nbsp\;&nbsp\;&nbsp\; <span style="font-size:11px\;"><em>7:30 - 9:00 am&nbsp\;&nbsp\; &nbsp\;&nbsp\;&nbsp\;&nbsp\;&nbsp\;&nbsp\;&nbsp\;&nbsp\; Board Meeting<br />\n&nbsp\;&nbsp\;&nbsp\; &nbsp\; &nbsp\; &nbsp\; &nbsp\;&nbsp\; 9:45 - 11:45 am&nbsp\;&nbsp\;&nbsp\;&nbsp\;&nbsp\;&nbsp\;&nbsp\;&nbsp\;&nbsp\; Nine - hole golf outing<br />\n&nbsp\;&nbsp\;&nbsp\;&nbsp\;&nbsp\;&nbsp\;&nbsp\;&nbsp\;&nbsp\;&nbsp\;&nbsp\;&nbsp\; 11:45 am - 1:00 pm&nbsp\; &nbsp\; Lunch for all players at Shanks</em></span><br />\n<strong>Cost:</strong> Free to Board Members and guest that attend<br />\n<strong>Location:</strong> Ashland Golf Club - 1333 Center Street
LOCATION:Ashland Golf Club 1333 Center St. Ashland OH 44805
UID:e.1651.4139
SEQUENCE:3
DTSTAMP:20260420T173434Z
URL:https://members.ashlandoh.com/events/details/chamber-board-meeting-mini-golf-outing-lunch-7-22-16-07-22-2016-4139
END:VEVENT

END:VCALENDAR
