BEGIN:VCALENDAR
VERSION:2.0
PRODID:-//ChamberMaster//Event Calendar 2.0//EN
METHOD:PUBLISH
X-PUBLISHED-TTL:P3D
REFRESH-INTERVAL:P3D
CALSCALE:GREGORIAN
BEGIN:VEVENT
DTSTART:20170809T113000Z
DTEND:20170809T170000Z
X-MICROSOFT-CDO-ALLDAYEVENT:FALSE
SUMMARY:Chamber Board Meeting - Mini Golf Outing & Lunch 8-9-17
DESCRIPTION:The Chamber Board of Directors will be holding a special networking meeting on Wednesday\, August 9\, 2017. All board members need to arrive by 7:30 am for the regular Board meeting and will have an opportunity to network with our Premier members during the rest of the event.\n\nOur Premier members have been invited to this special meeting in thanks for their continued support of the Chamber.\n\n\n\nEVENT SCHEDULE:\n\nDate: Wednesday\, August 9\, 2017\n\nTime: 7:30 am - 1:00 pm (see details below)\n\n    7:30 - 9:00 am : Board Meeting\n\n    9:15 - 11:30 am : Nine - hole golf outing\n\n    11:30 am - 1:00 pm : Lunch for all players at Shanks\n\nCost: Free to Board Members and guest that attend\n\nLocation: Ashland Golf Club - 1333 Center Street
X-ALT-DESC;FMTTYPE=text/html:<strong>The Chamber Board of Directors</strong> will be holding a special networking meeting on Wednesday\, August 9\, 2017. All board members need to arrive by 7:30 am for the regular Board meeting and will have an opportunity to network with our Premier members during the rest of the event.<br />\n<strong>Our Premier members</strong> have been invited to this special meeting in thanks for their continued support of the Chamber.<br />\n<br />\n<span style="color: rgb(75\, 0\, 130)\;"><strong><u>EVENT SCHEDULE:</u></strong></span><br />\n<strong>Date: </strong>Wednesday\, August 9\, 2017<br />\n<strong>Time:</strong> 7:30 am - 1:00 pm (see details below)<br />\n<span style="font-size: 11px\;"><em>&nbsp\;&nbsp\;&nbsp\; 7:30 - 9:00 am :&nbsp\;Board Meeting<br />\n&nbsp\;&nbsp\;&nbsp\; 9:15 - 11:30 am&nbsp\;: Nine - hole golf outing</em></span><br />\n<span style="font-size: 11px\;"><em>&nbsp\;&nbsp\;&nbsp\; 11:30 am - 1:00 pm&nbsp\;:&nbsp\;Lunch for all players at Shanks</em></span><br />\n<strong>Cost:</strong> Free to Board Members and guest that attend<br />\n<strong>Location:</strong> Ashland Golf Club - 1333 Center Street
LOCATION:Ashland Golf Club 1333 Center St. Ashland OH 44805
UID:e.1651.5315
SEQUENCE:3
DTSTAMP:20260419T205943Z
URL:https://members.ashlandoh.com/events/details/chamber-board-meeting-mini-golf-outing-lunch-8-9-17-5315
END:VEVENT

END:VCALENDAR
