BEGIN:VCALENDAR
VERSION:2.0
PRODID:-//ChamberMaster//Event Calendar 2.0//EN
METHOD:PUBLISH
X-PUBLISHED-TTL:P3D
REFRESH-INTERVAL:P3D
CALSCALE:GREGORIAN
BEGIN:VEVENT
DTSTART:20170605T123000Z
DTEND:20170605T200000Z
X-MICROSOFT-CDO-ALLDAYEVENT:FALSE
SUMMARY:Chamber Golf Outing - Ashland Golf Club 6-5-17
DESCRIPTION:2017 Annual Golf Outing - Monday\, June 5\, 2017\n\nJoin us for a wonderful day of golf\, great food and uplifting conversation. This is a great opportunity to invite your friends\, co-workers and clients!\n\n\n\n8:30 am: Check-In / Putting Contest\n\n9:30 am: Shot-Gun Start\n\n$100 per player / $400 team\n\nTeam Bundles are also available (include : Perfect Drives\, Hole-In-Ones\, 3 Mulligans\, Skins Game and  1 arms length of Raffle Tickets)\n\n\n\nCLICK HERE  FOR REGISTRATION AND SPONSORSHIP INFORMATION
X-ALT-DESC;FMTTYPE=text/html:<span style="font-size:16px\;"><strong>2017 Annual Golf Outing - Monday\, June 5\, 2017</strong></span><br />\nJoin us for a wonderful day of golf\, great food and uplifting conversation. This is a great opportunity to invite your friends\, co-workers and clients!<br />\n<br />\n8:30 am: Check-In / Putting Contest<br />\n9:30 am: Shot-Gun Start<br />\n$100 per player / $400 team<br />\n<em><strong>Team Bundles</strong> are also available (include <span style="language:en-US\;">: Perfect </span><span style="language:en-US\;">Drives\, Hole-In-Ones\, 3 Mulligans\, Skins Game and&nbsp\; 1 arms length of Raffle Tickets)</span></em><br />\n<br />\n<strong><span style="color:#008000\;"><a href="https://chambermaster.blob.core.windows.net/userfiles/UserFiles/chambers/1651/File/Events/2017_Golf/2017GolfRegistrationSheet-Final.pdf" target="_blank">CLICK HERE</a> </span></strong> <strong>FOR REGISTRATION AND SPONSORSHIP INFORMATION</strong>
LOCATION:Ashland Golf Club 1333 Center St.\, Ashland OH 44805
UID:e.1651.4181
SEQUENCE:3
DTSTAMP:20260419T223448Z
URL:https://members.ashlandoh.com/events/details/chamber-golf-outing-ashland-golf-club-6-5-17-4181
END:VEVENT

END:VCALENDAR
