BEGIN:VCALENDAR
VERSION:2.0
PRODID:-//ChamberMaster//Event Calendar 2.0//EN
METHOD:PUBLISH
X-PUBLISHED-TTL:P3D
REFRESH-INTERVAL:P3D
CALSCALE:GREGORIAN
BEGIN:VEVENT
DTSTART:20130522T213000Z
DTEND:20130522T223000Z
X-MICROSOFT-CDO-ALLDAYEVENT:FALSE
SUMMARY:Chamber Ireland Trip Info Meeting
DESCRIPTION:NEW !!  IRELAND TRIP - Informational Meeting\n\nCome and learn about the upcoming Ireland Trip\n\n(Nov. 12-19\, 2013). \n\nMeet Dawn Emerson with Collette Vacations and learn the details about this exciting trip!
X-ALT-DESC;FMTTYPE=text/html:<span style="font-size:12px\;"><strong><span style="color: rgb(0\, 0\, 144)\;"><span style="font-family: arial\,sans-serif\;">NEW !!</span></span></strong><strong><span style="color: black\;"><span style="font-family: arial\,sans-serif\;">&nbsp\; IRELAND TRIP - Informational Meeting<br />\nCome and learn about the upcoming Ireland Trip<br />\n(Nov. 12-19\, 2013). </span></span></strong><br />\n<em><span style="color: black\;"><span style="font-family: arial\,sans-serif\;">Meet Dawn Emerson with Collette Vacations and learn the details about this exciting trip!</span></span></em></span><br />\n
LOCATION:Chamber Office 211 Claremont Ave. Ashland\, OH 44805 419-281-4584
UID:e.1651.649
SEQUENCE:3
DTSTAMP:20260423T102528Z
URL:https://members.ashlandoh.com/events/details/chamber-ireland-trip-info-meeting-05-22-2013-649
END:VEVENT

END:VCALENDAR
