BEGIN:VCALENDAR
VERSION:2.0
PRODID:-//ChamberMaster//Event Calendar 2.0//EN
METHOD:PUBLISH
X-PUBLISHED-TTL:P3D
REFRESH-INTERVAL:P3D
CALSCALE:GREGORIAN
BEGIN:VEVENT
DTSTART;VALUE=DATE:20140609
DTEND;VALUE=DATE:20140610
TRANSP:TRANSPARENT
X-MICROSOFT-CDO-ALLDAYEVENT:TRUE
SUMMARY:Chamber Office Closed
DESCRIPTION:Chamber Office is Closed Today\n\n\n\nWe will re-open on Tuesday\, June 10th at 8AM
X-ALT-DESC;FMTTYPE=text/html:Chamber Office is Closed Today<br />\n<br />\nWe will re-open on Tuesday\, June 10th at 8AM
LOCATION:We are hosting our Annual Chamber Golf Outing at the Ashland Golf Club Come out and join us to meet and greet the golfers and sponsors at 8AM. Shot Gun is 9:30AM
UID:e.1651.1486
SEQUENCE:3
DTSTAMP:20260422T122112Z
URL:https://members.ashlandoh.com/events/details/chamber-office-closed-06-09-2014-1486
END:VEVENT

END:VCALENDAR
