BEGIN:VCALENDAR
VERSION:2.0
PRODID:-//ChamberMaster//Event Calendar 2.0//EN
METHOD:PUBLISH
X-PUBLISHED-TTL:P3D
REFRESH-INTERVAL:P3D
CALSCALE:GREGORIAN
BEGIN:VEVENT
DTSTART:20140730T113000Z
DTEND:20140730T203000Z
X-MICROSOFT-CDO-ALLDAYEVENT:FALSE
SUMMARY:Chamber Office Closed
DESCRIPTION:The Chamber Office will be closed today for a Staff Retreat. We will re-open on Thursday\, July 31st at 7:30 am.
X-ALT-DESC;FMTTYPE=text/html:<strong>The Chamber Office will be closed today for a Staff Retreat. </strong>We will re-open on Thursday\, July 31st at 7:30 am.
LOCATION:
UID:e.1651.1516
SEQUENCE:3
DTSTAMP:20260422T104952Z
URL:https://members.ashlandoh.com/events/details/chamber-office-closed-07-30-2014-1516
END:VEVENT

END:VCALENDAR
