BEGIN:VCALENDAR
VERSION:2.0
PRODID:-//ChamberMaster//Event Calendar 2.0//EN
METHOD:PUBLISH
X-PUBLISHED-TTL:P3D
REFRESH-INTERVAL:P3D
CALSCALE:GREGORIAN
BEGIN:VEVENT
DTSTART;VALUE=DATE:20150313
DTEND;VALUE=DATE:20150314
TRANSP:TRANSPARENT
X-MICROSOFT-CDO-ALLDAYEVENT:TRUE
SUMMARY:Chamber Office Closed Friday\, March 13th
DESCRIPTION:The Chamber Office will be closed this Friday\, March 13th\, 2015 and will re-open on Monday\, March 16th at 8:00am.
X-ALT-DESC;FMTTYPE=text/html:The Chamber Office will be closed this Friday\, March 13th\, 2015 and will re-open on Monday\, March 16th at 8:00am.&nbsp\;
LOCATION:
UID:e.1651.2214
SEQUENCE:3
DTSTAMP:20260421T214918Z
URL:https://members.ashlandoh.com/events/details/chamber-office-closed-friday-march-13th-03-13-2015-2214
END:VEVENT

END:VCALENDAR
