BEGIN:VCALENDAR
VERSION:2.0
PRODID:-//ChamberMaster//Event Calendar 2.0//EN
METHOD:PUBLISH
X-PUBLISHED-TTL:P3D
REFRESH-INTERVAL:P3D
CALSCALE:GREGORIAN
BEGIN:VEVENT
DTSTART:20161017T150000Z
DTEND:20161017T180000Z
X-MICROSOFT-CDO-ALLDAYEVENT:FALSE
SUMMARY:Chamber Open House and Special Ribbon Cutting 10-17-16
DESCRIPTION:ARE YOU A NEW MEMBER OR ARE YOU INTERESTED IN JOINING THE CHAMBER?\n\nCome and visit us\, learn about Chamber Membership and the benefits you can receive. We want to help grow your business!\n\n\n\nWhat: Chamber Open House event\n\nWhere: Chamber Office - 211 Claremont AVe.\, Ashland OH 44805\n\nDate: Monday\, October 17\, 2016\n\nTime: 11:00 am - 2:00 pm\n\nFood: Charcoal Mafia will be selling food - Click here for a menu!\n\nBring: your business cards and questions.\n\n\n\nSPECIAL RIBBON CUTTING:\n\nMeet Renee Maggelet and learn about her business - Plexus Worldwide. (Ribbon cutting will take place at 12:00 noon)
X-ALT-DESC;FMTTYPE=text/html:<strong>ARE YOU A NEW MEMBER OR ARE YOU INTERESTED IN JOINING THE CHAMBER?</strong><br />\nCome and visit us\, learn about Chamber Membership and the benefits you can receive. We want to help grow your business!<br />\n<br />\n<strong>What: Chamber Open House event</strong><br />\nWhere: Chamber Office - 211 Claremont AVe.\, Ashland OH 44805<br />\nDate: Monday\, October 17\, 2016<br />\nTime: 11:00 am - 2:00 pm<br />\nFood: Charcoal Mafia will be selling food - <strong><a href="https://chambermaster.blob.core.windows.net/userfiles/UserFiles/chambers/1651/File/Events/CHarcoalmafiabbq.pdf" target="_blank">Click here for a menu!</a></strong><br />\nBring: your business cards and questions.<br />\n<br />\n<span style="color:#B22222\;"><strong>SPECIAL RIBBON CUTTING:</strong></span><br />\nMeet Renee Maggelet and learn about her business - Plexus Worldwide. (Ribbon cutting will take place at 12:00 noon)
LOCATION:Chamber office 211 Claremont Ave. Ashland OH 44805
UID:e.1651.4185
SEQUENCE:3
DTSTAMP:20260420T123141Z
URL:https://members.ashlandoh.com/events/details/chamber-open-house-and-special-ribbon-cutting-10-17-16-4185
END:VEVENT

END:VCALENDAR
