BEGIN:VCALENDAR
VERSION:2.0
PRODID:-//ChamberMaster//Event Calendar 2.0//EN
METHOD:PUBLISH
X-PUBLISHED-TTL:P3D
REFRESH-INTERVAL:P3D
CALSCALE:GREGORIAN
BEGIN:VEVENT
DTSTART:20161114T163000Z
DTEND:20161114T180000Z
X-MICROSOFT-CDO-ALLDAYEVENT:FALSE
SUMMARY:Chamber Open House - "Wonder Dogs" with Ev DeVaul
DESCRIPTION:CHAMBER OPEN HOUSE & LUNCH\n\nIf you are new to the area\, a new member of the Chamber\, or just have questions about what the Chamber does\, this event is for you. Come and visit the Chamber Office\, meet the Staff\, and learn how the Chamber can help your business succeed.\n\n\n\n"Wonder Dogs" with Ev DeVaul. Come had enjoy some great lunch while supporting the United Way of Ashland.\n\n\n\nWhen: Monday\, November 14\, 2016\n\nTime: 11:30 am - 1:00 pm\n\nWhere: Chamber Office - 211 Claremont Ave.\, Ashland\n\nBring: Your business cards\, questions and a donation for the United Way.
X-ALT-DESC;FMTTYPE=text/html:<span style="color:#0000CD\;"><span style="font-size: 18px\;"><strong>CHAMBER OPEN HOUSE &amp\; LUNCH</strong></span></span><br />\nIf you are new to the area\, a new member of the Chamber\, or just have questions about what the Chamber does\, this event is for you. Come and visit the Chamber Office\, meet the Staff\, and learn how the Chamber can help your business succeed.<br />\n<br />\n<span style="font-size:14px\;"><strong>&quot\;Wonder Dogs&quot\; with Ev DeVaul. </strong></span>Come had enjoy some great lunch while supporting the United Way of Ashland.<br />\n<br />\n<em><strong>When:</strong> </em>Monday\, November 14\, 2016<br />\n<em><strong>Time: </strong></em>11:30 am - 1:00 pm<br />\n<strong><em>Where:</em></strong> Chamber Office - 211 Claremont Ave.\, Ashland<br />\n<em><strong>Bring:</strong></em> Your business cards\, questions and a donation for the United Way.<br />\n&nbsp\;
LOCATION:CHAMBER OFFICE 211 Claremont Ave. Ashland OH 44805 (419) 281-4584
UID:e.1651.4196
SEQUENCE:3
DTSTAMP:20260420T103638Z
URL:https://members.ashlandoh.com/events/details/chamber-open-house-wonder-dogs-with-ev-devaul-4196
END:VEVENT

END:VCALENDAR
