BEGIN:VCALENDAR
VERSION:2.0
PRODID:-//ChamberMaster//Event Calendar 2.0//EN
METHOD:PUBLISH
X-PUBLISHED-TTL:P3D
REFRESH-INTERVAL:P3D
CALSCALE:GREGORIAN
BEGIN:VEVENT
DTSTART:20171016T133000Z
DTEND:20171016T180000Z
X-MICROSOFT-CDO-ALLDAYEVENT:FALSE
SUMMARY:Chamber Shoot-Out 10-16-17
DESCRIPTION:Come and join us for our 4th Annual Chamber Shoot-Out!\n\nHosted by the Ashland Area Chamber of Commerce\n\n\n\n100 Shot Sporting Clay & Trap Shoot Event!\n\n4-5 person teams\n\nPrizes\, Food & Fun!\n\n\n\nA special thanks to Fin\, Feather\, Fur Outfitters for providing our Ammo for the participants!\n\n\n\nCLICK HERE FOR AN EVENT FLYER
X-ALT-DESC;FMTTYPE=text/html:<span style="font-size:14px\;"><span style="color: rgb(165\, 42\, 42)\;"><strong>Come and join us for our 4th Annual Chamber Shoot-Out!</strong></span></span><br />\n<em><strong>Hosted by the Ashland Area Chamber of Commerce<br />\n<br />\n100 Shot Sporting Clay &amp\; Trap Shoot Event!<br />\n4-5 person teams<br />\nPrizes\, Food &amp\; Fun!<br />\n<br />\nA special thanks to Fin\, Feather\, Fur Outfitters for providing our Ammo for the participants!</strong></em><br />\n<br />\n<strong><span style="background-color:#FFFF00\;"><a href="https://chambermaster.blob.core.windows.net/userfiles/UserFiles/chambers/1651/File/Events/ShootOutFlyer-October162017.pdf" target="_blank">CLICK HERE FOR AN EVENT FLYER</a> </span></strong>
LOCATION:Elkhorn Lake Hunt Club 4146 Klopfenstein Rd. Bucyrus\, OH 44820 (419) 562-6131
UID:e.1651.4217
SEQUENCE:3
DTSTAMP:20260419T173444Z
URL:https://members.ashlandoh.com/events/details/chamber-shoot-out-10-16-17-4217
END:VEVENT

END:VCALENDAR
