BEGIN:VCALENDAR
VERSION:2.0
PRODID:-//ChamberMaster//Event Calendar 2.0//EN
METHOD:PUBLISH
X-PUBLISHED-TTL:P3D
REFRESH-INTERVAL:P3D
CALSCALE:GREGORIAN
BEGIN:VEVENT
DTSTART:20151019T133000Z
DTEND:20151019T180000Z
X-MICROSOFT-CDO-ALLDAYEVENT:FALSE
SUMMARY:Chamber Shoot-Out 10-19-15
DESCRIPTION:Come and join us for our 2nd Annual Chamber Shoot-Out!\n\nHosted by the Ashland Area Chamber of Commerce\n\n\n\n100 Shot Sporting Clay & Trap Shoot Event!\n\n4-5 person teams\n\nPrizes\, Food & Fun!\n\n\n\nAs many of you know\, the staff has been looking into the possibility of holding our Shoot-Out in Ashland at a local gun club. However\, after careful consideration and being informed of the extremely limited quantity of participants allowed at the local facility\, we have decided to return to Elkhorn Lake Gun Club for this year's event.\n\n\n\nThose who participated last year were very pleased with the shooting course\, the food and the club as a whole. Along with the clay shooting stations\, a trap shoot station will also be available this year.\n\n\n\nWe encourage you to get your teams officially registered and look forward to seeing you there!
X-ALT-DESC;FMTTYPE=text/html:<span style="font-size:14px\;"><span style="color: rgb(165\, 42\, 42)\;"><strong>Come and join us for our 2nd Annual Chamber Shoot-Out!</strong></span></span><br />\n<em><strong>Hosted by the Ashland Area Chamber of Commerce<br />\n<br />\n100 Shot Sporting Clay &amp\; Trap Shoot Event!<br />\n4-5 person teams<br />\nPrizes\, Food &amp\; Fun!</strong><br />\n<br />\nAs many of you know\, the staff has been looking into the possibility of holding our Shoot-Out in Ashland at a local gun club. However\, after careful consideration and being informed of the extremely limited quantity of participants allowed at the local facility\, we have decided to return to Elkhorn Lake Gun Club for this year&#39\;s event.<br />\n<br />\nThose who participated last year were very pleased with the shooting course\, the food and the club as a whole. Along with the clay shooting stations\, a trap shoot station will also be available this year.<br />\n<br />\nWe encourage you to get your teams officially registered and look forward to seeing you there!</em><br />\n<br />\n&nbsp\;
LOCATION:Elkhorn Lake Hunt Club 4146 Klopfenstein Rd. Bucyrus\, OH 44820 (419) 562-6131
UID:e.1651.1612
SEQUENCE:3
DTSTAMP:20260421T093446Z
URL:https://members.ashlandoh.com/events/details/chamber-shoot-out-10-19-15-10-19-2015-1612
END:VEVENT

END:VCALENDAR
