BEGIN:VCALENDAR
VERSION:2.0
PRODID:-//ChamberMaster//Event Calendar 2.0//EN
METHOD:PUBLISH
X-PUBLISHED-TTL:P3D
REFRESH-INTERVAL:P3D
CALSCALE:GREGORIAN
BEGIN:VEVENT
DTSTART:20141020T133000Z
DTEND:20141020T180000Z
X-MICROSOFT-CDO-ALLDAYEVENT:FALSE
SUMMARY:Chamber Shoot-Out 10-20-14 (Chamber Office - closed)
DESCRIPTION:Come and join us for our 1st Annual Chamber Shoot-Out!\n\nHosted by the Ashland Area Chamber of Commerce\n\n\n\n100 Shot Sporting Clay Event!\n\n4-5 person teams\n\nPrizes\, Food & Fun!\n\n\n\nView Flyer Details & Directions
X-ALT-DESC;FMTTYPE=text/html:<span style="font-size:14px\;"><span style="color: rgb(165\, 42\, 42)\;"><strong>Come and join us for our 1st Annual Chamber Shoot-Out!</strong></span></span><br />\n<em><strong>Hosted by the Ashland Area Chamber of Commerce<br />\n<br />\n100 Shot Sporting Clay Event!<br />\n4-5 person teams<br />\nPrizes\, Food &amp\; Fun!<br />\n<br />\n<a href="http://cloud.chambermaster.com/userfiles/UserFiles/chambers/1651/File/Events/ShotoutFlyer.pdf">View Flyer Details &amp\; Directions</a> </strong></em><br />\n&nbsp\;
LOCATION:Elkhorn Lake Hunt Club 4146 Klopfenstein Rd\, Bucyrus\, OH
UID:e.1651.1396
SEQUENCE:3
DTSTAMP:20260422T060631Z
URL:https://members.ashlandoh.com/events/details/chamber-shoot-out-10-20-14-chamber-office-closed-10-20-2014-1396
END:VEVENT

END:VCALENDAR
