BEGIN:VCALENDAR
VERSION:2.0
PRODID:-//ChamberMaster//Event Calendar 2.0//EN
METHOD:PUBLISH
X-PUBLISHED-TTL:P3D
REFRESH-INTERVAL:P3D
CALSCALE:GREGORIAN
BEGIN:VEVENT
DTSTART:20150311T213000Z
DTEND:20150311T223000Z
X-MICROSOFT-CDO-ALLDAYEVENT:FALSE
SUMMARY:Chamber Trip Meeting - Almafi Coast - Document Meeting
DESCRIPTION:AMALFI TRIP - Document Meeting\n\nMake sure you are all set to travel - review of trip and document.\n\n(Trip Date: March 19 - 28\, 2015)\n\nMitchell Mack - District Sales Manager with Collette Vacations will be our speaker
X-ALT-DESC;FMTTYPE=text/html:<span style="font-size:12px\;"><strong><span style="color: black\;"><span style="font-family: arial\,sans-serif\;">AMALFI TRIP - Document Meeting<br />\nMake sure you are all set to travel - review of trip and document.<br />\n(Trip Date: March 19 - 28\, 2015)</span></span></strong><br />\n<em><span style="color: black\;"><span style="font-family: arial\,sans-serif\;">Mitchell Mack - District Sales Manager with Collette Vacations will be our speaker</span></span></em></span>
LOCATION:Chamber Office 211 Claremont Ave. Ashland\, OH 44805 419-281-4584
UID:e.1651.2198
SEQUENCE:3
DTSTAMP:20260421T215121Z
URL:https://members.ashlandoh.com/events/details/chamber-trip-meeting-almafi-coast-document-meeting-03-11-2015-2198
END:VEVENT

END:VCALENDAR
