BEGIN:VCALENDAR
VERSION:2.0
PRODID:-//ChamberMaster//Event Calendar 2.0//EN
METHOD:PUBLISH
X-PUBLISHED-TTL:P3D
REFRESH-INTERVAL:P3D
CALSCALE:GREGORIAN
BEGIN:VEVENT
DTSTART:20121204T160000Z
DTEND:20121204T180000Z
X-MICROSOFT-CDO-ALLDAYEVENT:FALSE
SUMMARY:ChamberU Lunch & Learn
DESCRIPTION:Lunch & Learn\n\nSpeakers: Palitto Consulting Services\n\n\n\nTopic: Windows8
X-ALT-DESC;FMTTYPE=text/html:<strong>Lunch &amp\; Learn</strong><br />\n<em>Speakers: Palitto Consulting Services</em><br />\n<br />\nTopic: Windows8
LOCATION:Dauch College of Business Room 105
UID:e.1651.587
SEQUENCE:3
DTSTAMP:20260423T182020Z
URL:https://members.ashlandoh.com/events/details/chamberu-lunch-learn-12-04-2012-587
END:VEVENT

END:VCALENDAR
