BEGIN:VCALENDAR
VERSION:2.0
PRODID:-//ChamberMaster//Event Calendar 2.0//EN
METHOD:PUBLISH
X-PUBLISHED-TTL:P3D
REFRESH-INTERVAL:P3D
CALSCALE:GREGORIAN
BEGIN:VEVENT
DTSTART:20151210T170000Z
DTEND:20151210T180000Z
X-MICROSOFT-CDO-ALLDAYEVENT:FALSE
SUMMARY:Child Services Clothing Room - Grand Opening/Ribbon Cutting 12-10-15
DESCRIPTION:Grand Opening and Ribbon Cutting Celebration\n\n\n\nAshland County Job & Family Services wants you to... Come and celebrate with us as we dedicate the new Child Services Clothing Room. Ginny Telego and the Leadership Ashland team have partnered with JFS to provide a "shopping" type experience for those in the foster system who need clothing and other items. \n\n\n\nWe look forward to seeing you there!
X-ALT-DESC;FMTTYPE=text/html:<p><span style="font-family:arial\;"><span style="color: rgb(0\, 0\, 128)\;"><strong>Grand Opening and Ribbon Cutting Celebration</strong></span></span><br />\n<br />\n<span style="font-family:comic sans ms\;"><em><strong>Ashland County Job &amp\; Family Services wants you to..</strong></em>. </span><em><span style="font-family:comic sans ms\;">Come and celebrate with us as we dedicate the new Child Services Clothing Room. Ginny Telego and the Leadership Ashland team have partnered with JFS to provide a &quot\;shopping&quot\; type experience for those in the foster system who need clothing and other items. </span></em><br />\n<br />\n<span style="font-family:comic sans ms\;"><span style="font-family:arial\;">We look forward to seeing you there!</span></span></p>\n
LOCATION:ACJFS Office 15 W Fourth St. Ashland OH 44805
UID:e.1651.2503
SEQUENCE:3
DTSTAMP:20260421T060127Z
URL:https://members.ashlandoh.com/events/details/child-services-clothing-room-grand-opening-ribbon-cutting-12-10-15-12-10-2015-2503
END:VEVENT

END:VCALENDAR
