BEGIN:VCALENDAR
VERSION:2.0
PRODID:-//ChamberMaster//Event Calendar 2.0//EN
METHOD:PUBLISH
X-PUBLISHED-TTL:P3D
REFRESH-INTERVAL:P3D
CALSCALE:GREGORIAN
BEGIN:VEVENT
DTSTART:20170914T143000Z
DTEND:20170914T150000Z
X-MICROSOFT-CDO-ALLDAYEVENT:FALSE
SUMMARY:Chipotle Grand Opening 9-14-17
DESCRIPTION:Come and join us for a special Ribbon Cutting Celebration\n\nMeet our staff and tour the restaurant!\n\nWho: Chipotle Mexican Grill - Ashland\n\nDate: Thursday\, Sept. 14\, 2017\n\nTime: 10:30 am\n\nPlace: 1998 E Main St.\, Ashland\n\nBring: Congrats and Business Cards
X-ALT-DESC;FMTTYPE=text/html:<strong>Come and join us for a special Ribbon Cutting Celebration<br />\nMeet our staff and tour the restaurant!</strong><br />\nWho: Chipotle Mexican Grill - Ashland<br />\nDate: Thursday\, Sept. 14\, 2017<br />\nTime: 10:30 am<br />\nPlace: 1998 E Main St.\, Ashland<br />\nBring: Congrats and Business Cards
LOCATION:Chipotle Mexican Grill 1988 E Main St.\, Ashland
UID:e.1651.5370
SEQUENCE:3
DTSTAMP:20260419T191455Z
URL:https://members.ashlandoh.com/events/details/chipotle-grand-opening-9-14-17-5370
END:VEVENT

END:VCALENDAR
