BEGIN:VCALENDAR
VERSION:2.0
PRODID:-//ChamberMaster//Event Calendar 2.0//EN
METHOD:PUBLISH
X-PUBLISHED-TTL:P3D
REFRESH-INTERVAL:P3D
CALSCALE:GREGORIAN
BEGIN:VEVENT
DTSTART:20150108T123000Z
DTEND:20150108T133000Z
X-MICROSOFT-CDO-ALLDAYEVENT:FALSE
SUMMARY:Christians In Business
DESCRIPTION:"Situational Ethics"\n\nHigh standards are not always easy
X-ALT-DESC;FMTTYPE=text/html:&quot\;Situational Ethics&quot\;<br />\nHigh standards are not always easy
LOCATION:Downtown Perk and Dessert Oasis 145 W. Main Street\, Ashland
UID:e.1651.265
SEQUENCE:3
DTSTAMP:20260422T011626Z
URL:https://members.ashlandoh.com/events/details/christians-in-business-01-08-2015-265
END:VEVENT

END:VCALENDAR
