BEGIN:VCALENDAR
VERSION:2.0
PRODID:-//ChamberMaster//Event Calendar 2.0//EN
METHOD:PUBLISH
X-PUBLISHED-TTL:P3D
REFRESH-INTERVAL:P3D
CALSCALE:GREGORIAN
BEGIN:VEVENT
DTSTART:20140109T123000Z
DTEND:20140109T133000Z
X-MICROSOFT-CDO-ALLDAYEVENT:FALSE
SUMMARY:Christians In Business
DESCRIPTION:Understanding the Source of Anger - "The circumstances of life\, the events of life\, and the people around me in life\, do not make me the way I am\, but reveal the way I am" [Dr. Sam Peeples]
X-ALT-DESC;FMTTYPE=text/html:<strong><span style="color:#800000\;">Understanding the Source of Anger - &quot\;The circumstances of life\, the events of life\, and the people around me in life\, do not make me the way I am\, but reveal the way I am&quot\; [Dr. Sam Peeples]</span></strong><br />\n
LOCATION:Downtown Perk and Dessert Oasis 145 W. Main Street\, Ashland
UID:e.1651.253
SEQUENCE:3
DTSTAMP:20260422T210037Z
URL:https://members.ashlandoh.com/events/details/christians-in-business-01-09-2014-253
END:VEVENT

END:VCALENDAR
