BEGIN:VCALENDAR
VERSION:2.0
PRODID:-//ChamberMaster//Event Calendar 2.0//EN
METHOD:PUBLISH
X-PUBLISHED-TTL:P3D
REFRESH-INTERVAL:P3D
CALSCALE:GREGORIAN
BEGIN:VEVENT
DTSTART:20160114T123000Z
DTEND:20160114T133000Z
X-MICROSOFT-CDO-ALLDAYEVENT:FALSE
SUMMARY:Christians In Business
DESCRIPTION:CHANGING OUR PARADIGM\n\nDon't close your mind to the possibilities - God is in control!
X-ALT-DESC;FMTTYPE=text/html:<strong>CHANGING OUR PARADIGM</strong><br />\nDon&#39\;t close your mind to the possibilities - God is in control!
LOCATION:Downtown Perk and Dessert Oasis 145 W. Main Street\, Ashland
UID:e.1651.277
SEQUENCE:3
DTSTAMP:20260421T040024Z
URL:https://members.ashlandoh.com/events/details/christians-in-business-01-14-2016-277
END:VEVENT

END:VCALENDAR
