BEGIN:VCALENDAR
VERSION:2.0
PRODID:-//ChamberMaster//Event Calendar 2.0//EN
METHOD:PUBLISH
X-PUBLISHED-TTL:P3D
REFRESH-INTERVAL:P3D
CALSCALE:GREGORIAN
BEGIN:VEVENT
DTSTART:20150212T123000Z
DTEND:20150212T133000Z
X-MICROSOFT-CDO-ALLDAYEVENT:FALSE
SUMMARY:Christians In Business
DESCRIPTION:"The Causes of Failure"\n\nWhat is thwarting your plans?
X-ALT-DESC;FMTTYPE=text/html:&quot\;The Causes of Failure&quot\;<br />\nWhat is thwarting your plans?
LOCATION:Downtown Perk and Dessert Oasis 145 W. Main Street\, Ashland
UID:e.1651.266
SEQUENCE:3
DTSTAMP:20260421T232045Z
URL:https://members.ashlandoh.com/events/details/christians-in-business-02-12-2015-266
END:VEVENT

END:VCALENDAR
