BEGIN:VCALENDAR
VERSION:2.0
PRODID:-//ChamberMaster//Event Calendar 2.0//EN
METHOD:PUBLISH
X-PUBLISHED-TTL:P3D
REFRESH-INTERVAL:P3D
CALSCALE:GREGORIAN
BEGIN:VEVENT
DTSTART:20140213T123000Z
DTEND:20140213T133000Z
X-MICROSOFT-CDO-ALLDAYEVENT:FALSE
SUMMARY:Christians In Business
DESCRIPTION:Following only the Father's commands - Do I have the time to be involved? Do I really want to participate? What does God think?
X-ALT-DESC;FMTTYPE=text/html:<strong><span style="color:#800000\;">Following only the Father&#39\;s commands - Do I have the time to be involved? Do I really want to participate? What does God think?</span></strong><br />\n
LOCATION:Downtown Perk and Dessert Oasis 145 W. Main Street\, Ashland
UID:e.1651.254
SEQUENCE:3
DTSTAMP:20260422T210037Z
URL:https://members.ashlandoh.com/events/details/christians-in-business-02-13-2014-254
END:VEVENT

END:VCALENDAR
