BEGIN:VCALENDAR
VERSION:2.0
PRODID:-//ChamberMaster//Event Calendar 2.0//EN
METHOD:PUBLISH
X-PUBLISHED-TTL:P3D
REFRESH-INTERVAL:P3D
CALSCALE:GREGORIAN
BEGIN:VEVENT
DTSTART:20160310T123000Z
DTEND:20160310T133000Z
X-MICROSOFT-CDO-ALLDAYEVENT:FALSE
SUMMARY:Christians In Business
DESCRIPTION:THE POWER OF SERVING OTHERS\n\nWe shouldn't give with receiving in mind. We should give so that God can work in our lives.
X-ALT-DESC;FMTTYPE=text/html:<strong>THE POWER OF SERVING OTHERS</strong><br />\nWe shouldn&#39\;t give with receiving in mind. We should give so that God can work in our lives.
LOCATION:Downtown Perk and Dessert Oasis 145 W. Main Street\, Ashland
UID:e.1651.279
SEQUENCE:3
DTSTAMP:20260421T002242Z
URL:https://members.ashlandoh.com/events/details/christians-in-business-03-10-2016-279
END:VEVENT

END:VCALENDAR
