BEGIN:VCALENDAR
VERSION:2.0
PRODID:-//ChamberMaster//Event Calendar 2.0//EN
METHOD:PUBLISH
X-PUBLISHED-TTL:P3D
REFRESH-INTERVAL:P3D
CALSCALE:GREGORIAN
BEGIN:VEVENT
DTSTART:20140313T113000Z
DTEND:20140313T123000Z
X-MICROSOFT-CDO-ALLDAYEVENT:FALSE
SUMMARY:Christians In Business
DESCRIPTION:Our Labor in the Lord - When you begin your work day\, ask God if you are working with the primary motive of reflecting His life and character through your work.
X-ALT-DESC;FMTTYPE=text/html:<strong><span style="color:#800000\;">Our Labor in the Lord - When you begin your work day\, ask God if you are working with the primary motive of reflecting His life and character through your work.</span></strong>
LOCATION:Downtown Perk and Dessert Oasis 145 W. Main Street\, Ashland
UID:e.1651.255
SEQUENCE:3
DTSTAMP:20260422T173835Z
URL:https://members.ashlandoh.com/events/details/christians-in-business-03-13-2014-255
END:VEVENT

END:VCALENDAR
