BEGIN:VCALENDAR
VERSION:2.0
PRODID:-//ChamberMaster//Event Calendar 2.0//EN
METHOD:PUBLISH
X-PUBLISHED-TTL:P3D
REFRESH-INTERVAL:P3D
CALSCALE:GREGORIAN
BEGIN:VEVENT
DTSTART:20130509T113000Z
DTEND:20130509T123000Z
X-MICROSOFT-CDO-ALLDAYEVENT:FALSE
SUMMARY:Christians In Business
DESCRIPTION:Time To Hear - What?
X-ALT-DESC;FMTTYPE=text/html:<p>\n	<span style="color: rgb(0\, 0\, 128)\;"><span style="font-size: 16px\;"><strong><em>Time To Hear - What?</em></strong></span></span></p>\n<p>\n	&nbsp\;</p>\n
LOCATION:Downtown Perk and Dessert Oasis 145 W. Main Street\, Ashland
UID:e.1651.245
SEQUENCE:3
DTSTAMP:20260423T102429Z
URL:https://members.ashlandoh.com/events/details/christians-in-business-05-09-2013-245
END:VEVENT

END:VCALENDAR
