BEGIN:VCALENDAR
VERSION:2.0
PRODID:-//ChamberMaster//Event Calendar 2.0//EN
METHOD:PUBLISH
X-PUBLISHED-TTL:P3D
REFRESH-INTERVAL:P3D
CALSCALE:GREGORIAN
BEGIN:VEVENT
DTSTART:20160512T113000Z
DTEND:20160512T123000Z
X-MICROSOFT-CDO-ALLDAYEVENT:FALSE
SUMMARY:Christians In Business
DESCRIPTION:THE IMPORTANCE OF STAYING CONNECTED\n\nGetting to know your employees and clients is a must in business\, but your connection to God is even more important.
X-ALT-DESC;FMTTYPE=text/html:<strong>THE IMPORTANCE OF STAYING CONNECTED</strong><br />\nGetting to know your employees and clients is a must in business\, but your connection to God is even more important.
LOCATION:Downtown Perk and Dessert Oasis 145 W. Main Street\, Ashland
UID:e.1651.281
SEQUENCE:3
DTSTAMP:20260420T205037Z
URL:https://members.ashlandoh.com/events/details/christians-in-business-05-12-2016-281
END:VEVENT

END:VCALENDAR
