BEGIN:VCALENDAR
VERSION:2.0
PRODID:-//ChamberMaster//Event Calendar 2.0//EN
METHOD:PUBLISH
X-PUBLISHED-TTL:P3D
REFRESH-INTERVAL:P3D
CALSCALE:GREGORIAN
BEGIN:VEVENT
DTSTART:20140612T113000Z
DTEND:20140612T123000Z
X-MICROSOFT-CDO-ALLDAYEVENT:FALSE
SUMMARY:Christians In Business
DESCRIPTION:Wrestling With God\n\nHave you ever wished you could have the desires of your heart but you feel deep down something was always opposing you?
X-ALT-DESC;FMTTYPE=text/html:<div data-angle="0" data-canvas-width="193.31499262561795" data-font-name="g_font_24_0" dir="ltr" style="font-size: 23px\; font-family: sans-serif\; left: 403.042px\; top: 975.646px\; transform: rotate(0deg) scale(0.958983\, 1)\; transform-origin: 0% 0% 0px\;"><span style="font-size:16px\;"><strong><span style="font-family: arial\;">Wrestling With God</span></strong></span></div>\n\n<div data-angle="0" data-canvas-width="489.1397313407995" data-font-name="g_font_17_0" dir="ltr" style="font-size: 20.75px\; font-family: sans-serif\; left: 403.042px\; top: 1003.08px\; transform: rotate(0deg) scale(0.907495\, 1)\; transform-origin: 0% 0% 0px\;"><span style="font-size:12px\;"><span style="font-family: arial\;">Have you ever wished you could have the desires of your heart but you feel deep down something was always opposing you?</span></span></div>\n
LOCATION:Downtown Perk and Dessert Oasis 145 W. Main Street\, Ashland
UID:e.1651.258
SEQUENCE:3
DTSTAMP:20260422T122215Z
URL:https://members.ashlandoh.com/events/details/christians-in-business-06-12-2014-258
END:VEVENT

END:VCALENDAR
