BEGIN:VCALENDAR
VERSION:2.0
PRODID:-//ChamberMaster//Event Calendar 2.0//EN
METHOD:PUBLISH
X-PUBLISHED-TTL:P3D
REFRESH-INTERVAL:P3D
CALSCALE:GREGORIAN
BEGIN:VEVENT
DTSTART:20130711T113000Z
DTEND:20130711T123000Z
X-MICROSOFT-CDO-ALLDAYEVENT:FALSE
SUMMARY:Christians In Business
DESCRIPTION:Beware of the Thief: It only takes a small crack in the door of our heart to lose our spiritual focus
X-ALT-DESC;FMTTYPE=text/html:<strong><span style="color:#800000\;">Beware of the Thief: It only takes a small crack in the door of our heart to lose our spiritual focus</span></strong><br />\n
LOCATION:Downtown Perk and Dessert Oasis 145 W. Main Street\, Ashland
UID:e.1651.247
SEQUENCE:3
DTSTAMP:20260423T065951Z
URL:https://members.ashlandoh.com/events/details/christians-in-business-07-11-2013-247
END:VEVENT

END:VCALENDAR
