BEGIN:VCALENDAR
VERSION:2.0
PRODID:-//ChamberMaster//Event Calendar 2.0//EN
METHOD:PUBLISH
X-PUBLISHED-TTL:P3D
REFRESH-INTERVAL:P3D
CALSCALE:GREGORIAN
BEGIN:VEVENT
DTSTART:20160714T113000Z
DTEND:20160714T123000Z
X-MICROSOFT-CDO-ALLDAYEVENT:FALSE
SUMMARY:Christians In Business
DESCRIPTION:NO MEETING THIS MONTH - SEE YOU IN AUGUST!
X-ALT-DESC;FMTTYPE=text/html:<span style="color:#B22222\;"><span style="font-size: 28px\;">NO MEETING THIS MONTH - SEE YOU IN AUGUST!</span></span>
LOCATION:Downtown Perk and Dessert Oasis 145 W. Main Street\, Ashland
UID:e.1651.283
SEQUENCE:3
DTSTAMP:20260420T173027Z
URL:https://members.ashlandoh.com/events/details/christians-in-business-07-14-2016-283
END:VEVENT

END:VCALENDAR
