BEGIN:VCALENDAR
VERSION:2.0
PRODID:-//ChamberMaster//Event Calendar 2.0//EN
METHOD:PUBLISH
X-PUBLISHED-TTL:P3D
REFRESH-INTERVAL:P3D
CALSCALE:GREGORIAN
BEGIN:VEVENT
DTSTART:20130808T113000Z
DTEND:20130808T123000Z
X-MICROSOFT-CDO-ALLDAYEVENT:FALSE
SUMMARY:Christians In Business
DESCRIPTION:Expectations - They can be a difficult trap for each of us if we are not fully committed to God's purposes in our lives.
X-ALT-DESC;FMTTYPE=text/html:<strong><span style="color:#800000\;">Expectations - They can be a difficult trap for each of us if we are not fully committed to God&#39\;s purposes in our lives.</span></strong><br />\n
LOCATION:Downtown Perk and Dessert Oasis 145 W. Main Street\, Ashland
UID:e.1651.248
SEQUENCE:3
DTSTAMP:20260423T052451Z
URL:https://members.ashlandoh.com/events/details/christians-in-business-08-08-2013-248
END:VEVENT

END:VCALENDAR
