BEGIN:VCALENDAR
VERSION:2.0
PRODID:-//ChamberMaster//Event Calendar 2.0//EN
METHOD:PUBLISH
X-PUBLISHED-TTL:P3D
REFRESH-INTERVAL:P3D
CALSCALE:GREGORIAN
BEGIN:VEVENT
DTSTART:20160908T113000Z
DTEND:20160908T123000Z
X-MICROSOFT-CDO-ALLDAYEVENT:FALSE
SUMMARY:Christians In Business
DESCRIPTION:KNOWLEDGE FOSTERS RESPECT\n\nThe importance of taking God's word seriously.
X-ALT-DESC;FMTTYPE=text/html:<strong>KNOWLEDGE FOSTERS RESPECT</strong><br />\nThe importance of taking God&#39\;s word seriously.
LOCATION:Downtown Perk and Dessert Oasis 145 W. Main Street\, Ashland
UID:e.1651.285
SEQUENCE:3
DTSTAMP:20260420T140051Z
URL:https://members.ashlandoh.com/events/details/christians-in-business-09-08-2016-285
END:VEVENT

END:VCALENDAR
